BEGIN:VCALENDAR
VERSION:2.0
PRODID:-//Silvae Spiritus - ECPv6.13.2.1//NONSGML v1.0//EN
CALSCALE:GREGORIAN
METHOD:PUBLISH
X-ORIGINAL-URL:https://silvaespiritus.com
X-WR-CALDESC:Events for Silvae Spiritus
REFRESH-INTERVAL;VALUE=DURATION:PT1H
X-Robots-Tag:noindex
X-PUBLISHED-TTL:PT1H
BEGIN:VTIMEZONE
TZID:America/Chicago
BEGIN:DAYLIGHT
TZOFFSETFROM:-0600
TZOFFSETTO:-0500
TZNAME:CDT
DTSTART:20250309T080000
END:DAYLIGHT
BEGIN:STANDARD
TZOFFSETFROM:-0500
TZOFFSETTO:-0600
TZNAME:CST
DTSTART:20251102T070000
END:STANDARD
END:VTIMEZONE
BEGIN:VEVENT
DTSTART;TZID=America/Chicago:20250808T180000
DTEND;TZID=America/Chicago:20250810T140000
DTSTAMP:20260422T184508
CREATED:20250129T225920Z
LAST-MODIFIED:20250408T175227Z
UID:4817-1754676000-1754834400@silvaespiritus.com
SUMMARY:Interbeing 09:  Full Moon || Fruition
DESCRIPTION:This weekend-long camping retreat accompanied by the full moon is centered around celebrating the abundance of our wholeness with community connection\, nature\, reflection\, and embodiment. In past years\, Interbeing retreats have typically focused on a single theme or wellness modality; in 2025\, we are delighted to offer retreats that offer a little something for every part of your whole being: from prompted journaling to dance parties\, guided meditation to yoga for all bodies\, sound bathing to nature relation\, ephemeral art to spaciousness\, thermic cycling to naps\, music to story circles. Guests will be invited into a weekend of relaxation\, curiosity\, shared wisdom\, open-heartedness\, and community. \nEarly bird guests can register for a $99 discount!  Register by June 8\, 2025 and use promo code “EARLYBIRD” for $99 off your ticket.  This event is limited to 25 participants. \nGet more info about Interbeing 09 and register here.
URL:https://silvaespiritus.com/event/interbeing-09-full-moon-fruition/
LOCATION:Silvae Spiritus Northwoods Nature Retreat\, 68441 Rhine Lake Road\, Finlayson\, MN\, 55735\, United States
CATEGORIES:Interbeing Retreats
ATTACH;FMTTYPE=image/jpeg:https://silvaespiritus.com/wp-content/uploads/2025/01/Interbeing-09-poster.jpg
ORGANIZER;CN="Silvae Spiritus":MAILTO:info@silvaespiritus.com
END:VEVENT
END:VCALENDAR