BEGIN:VCALENDAR
VERSION:2.0
PRODID:-//Silvae Spiritus - ECPv6.13.2.1//NONSGML v1.0//EN
CALSCALE:GREGORIAN
METHOD:PUBLISH
X-WR-CALNAME:Silvae Spiritus
X-ORIGINAL-URL:https://silvaespiritus.com
X-WR-CALDESC:Events for Silvae Spiritus
REFRESH-INTERVAL;VALUE=DURATION:PT1H
X-Robots-Tag:noindex
X-PUBLISHED-TTL:PT1H
BEGIN:VTIMEZONE
TZID:America/Chicago
BEGIN:DAYLIGHT
TZOFFSETFROM:-0600
TZOFFSETTO:-0500
TZNAME:CDT
DTSTART:20260308T080000
END:DAYLIGHT
BEGIN:STANDARD
TZOFFSETFROM:-0500
TZOFFSETTO:-0600
TZNAME:CST
DTSTART:20261101T070000
END:STANDARD
END:VTIMEZONE
BEGIN:VEVENT
DTSTART;TZID=America/Chicago:20260503T120000
DTEND;TZID=America/Chicago:20260503T180000
DTSTAMP:20260419T235406
CREATED:20260206T034644Z
LAST-MODIFIED:20260402T202039Z
UID:5040-1777809600-1777831200@silvaespiritus.com
SUMMARY:Spiral Path: Seasonal Ceremonies
DESCRIPTION:Spiral Path: Seasonal Ceremonies\npresented by Silvae Spiritus and Sisu Nordic Sauna\nA four-part series:\nSpring: Sunday\, May 3\, 2026 – 12 noon – 6pm\nSummer: Sunday\, August 2\, 2026 – 12 noon – 6pm\nAutumn: Sunday\, November 1\, 2026 – 12 noon – 6pm\nWinter: Sunday\, January 31\, 2027 – 12 noon – 6pm\nAges 18+\n  \nOur vitality and interconnectedness with all of life is an inherent gift – one we’re all born with – and yet our Western culture often dismisses it\, or worse\, actively suppresses it. \nSpiral Path: Seasonal Ceremonies\, co-created by Silvae Spiritus and Sisu Nordic Sauna\, is a four-part wellness series reflecting and honoring the natural rhythms of an entire year.  Each session building upon the last\, each season meeting us where we authentically are.   Through sauna\, cold plunge\, and the mind\, body\, and spirit-tending Latvian thermic ritual of pirtis; deeply connective Forest Bathing and mytho-poetic herbcraft through the lens of animism; meditative and intuitive journaling; and the practice of community connection via The Way of the Circle\, each gathering will focus on the profound wisdom and expansive teachings of a season and those most connected to it. \nInspired by the Celtic Wheel of the Year’s cross-quarter days between the Solstices and Equinoxes\, we step together into a calendar of moons and ancient traditions.  One where time is told by blossom and harvest\, darkness and light.  Join us on the Spiral Path – a yearlong exploration of ritual\, tenderness\, connection\, and reflection. \nVisit the Spiral Path: Seasonal Ceremonies event page for more information and to register!  Event space is limited to 12 participants.
URL:https://silvaespiritus.com/event/spiral-path-seasonal-ceremonies/
LOCATION:Silvae Spiritus Northwoods Nature Retreat\, 68441 Rhine Lake Road\, Finlayson\, MN\, 55735\, United States
CATEGORIES:Community Sauna,Forest Bathing,Spiral Path
ATTACH;FMTTYPE=image/jpeg:https://silvaespiritus.com/wp-content/uploads/2026/02/Spiral-Path-Final2.jpg
ORGANIZER;CN="Silvae Spiritus":MAILTO:info@silvaespiritus.com
END:VEVENT
BEGIN:VEVENT
DTSTART;TZID=America/Chicago:20260514T183000
DTEND;TZID=America/Chicago:20260514T203000
DTSTAMP:20260419T235406
CREATED:20260407T183734Z
LAST-MODIFIED:20260407T184402Z
UID:5168-1778783400-1778790600@silvaespiritus.com
SUMMARY:Spring Evening Forest Bathing at Dodge Nature Center
DESCRIPTION:Join Silvae Spiritus Nature & Forest Therapy guide Leigha Horton\, certified by the Association of Nature and Forest Therapy Guides and Programs\, for a guided spring evening forest bathing experience!  \nForest bathing is a slow-moving\, deeply sensory\, mindful and “bodyful” walk in nature that has shown to result in measurable physiological\, cognitive\, and emotional benefits. Much like walking meditation or yoga\, these activities can be practiced on one’s own\, almost anywhere\, and yet the benefits greatly increase with regular practice. Forest bathing is significantly more immersive when facilitated by properly trained and certified guides—you’ll be guided by an expert through this program!   \nOver the course of this walk\, you will be given a series of invitations and suggested ways to connect to your natural surroundings. This experience will be mostly silent\, honors each participant’s personal space\, and covers just about 1.5 miles over generally flat surfaces.  \nAt the end of each invitation\, the group will have an opportunity to share a few words of reflection\, integrating the experience both internally and within community. The walk concludes with tea and light snacks.  \nReservations required – register with Dodge Nature Center here.
URL:https://silvaespiritus.com/event/spring-evening-forest-bathing-at-dodge-nature-center/
LOCATION:Dodge Nature Center – Main Property\, Farm Entrance\, 1701 Charlton Street\, West St. Paul\, Minnesota\, 55118\, United States
CATEGORIES:Community Forest Bathing,Silvae Spiritus in the Wild
ATTACH;FMTTYPE=image/jpeg:https://silvaespiritus.com/wp-content/uploads/2021/04/Branching-out.jpg
ORGANIZER;CN="Dodge Nature Center":MAILTO:info@dodgenaturecenter.org
END:VEVENT
BEGIN:VEVENT
DTSTART;TZID=America/Chicago:20260605T160000
DTEND;TZID=America/Chicago:20260607T150000
DTSTAMP:20260419T235406
CREATED:20260206T040907Z
LAST-MODIFIED:20260402T201742Z
UID:5053-1780675200-1780844400@silvaespiritus.com
SUMMARY:Interbeing 11: DAWN
DESCRIPTION:With the sun’s rise\, long shadows stretch across the landscape. The East brings the medicine of new beginnings and rebirth and joy\, yes\, but not without alchemization and metabolization of the darkness that has come before. More info about the year’s first of two celebrated weekend-long camping retreats coming soon. \nIn past years\, Interbeing retreats have typically focused on a single theme or wellness modality; in 2026\, we are delighted to offer retreats that offer a little something for every part of your whole being: from prompted journaling to dance parties\, guided meditation to yoga for all bodies\, sound bathing to nature relation\, ephemeral art to spaciousness\, thermic cycling to naps\, music to story circles. Guests will be invited into a weekend of relaxation\, curiosity\, shared wisdom\, open-heartedness\, and community. \nVisit the Interbeing 11: DAWN event page for all the details and to register. \nReady to register? Use code EARLYBIRD2026 before April 19\, 2026 to get $96 off! \n  \nAct fast – this event is limited to 25 participants.
URL:https://silvaespiritus.com/event/interbeing-11-dawn/
LOCATION:Silvae Spiritus Northwoods Nature Retreat\, 68441 Rhine Lake Road\, Finlayson\, MN\, 55735\, United States
CATEGORIES:Interbeing Retreats
ATTACH;FMTTYPE=image/jpeg:https://silvaespiritus.com/wp-content/uploads/2026/02/Interbeing-11-DAWN-poster.jpg
END:VEVENT
BEGIN:VEVENT
DTSTART;TZID=America/Chicago:20260611T183000
DTEND;TZID=America/Chicago:20260611T203000
DTSTAMP:20260419T235406
CREATED:20260407T184319Z
LAST-MODIFIED:20260407T184319Z
UID:5172-1781202600-1781209800@silvaespiritus.com
SUMMARY:Spring Evening Forest Bathing at Dodge Nature Center
DESCRIPTION:Join Silvae Spiritus Nature & Forest Therapy guide Leigha Horton\, certified by the Association of Nature and Forest Therapy Guides and Programs\, for a guided spring evening forest bathing experience!  \nForest bathing is a slow-moving\, deeply sensory\, mindful and “bodyful” walk in nature that has shown to result in measurable physiological\, cognitive\, and emotional benefits. Much like walking meditation or yoga\, these activities can be practiced on one’s own\, almost anywhere\, and yet the benefits greatly increase with regular practice. Forest bathing is significantly more immersive when facilitated by properly trained and certified guides—you’ll be guided by an expert through this program!   \nOver the course of this walk\, you will be given a series of invitations and suggested ways to connect to your natural surroundings. This experience will be mostly silent\, honors each participant’s personal space\, and covers just about 1.5 miles over generally flat surfaces.  \nAt the end of each invitation\, the group will have an opportunity to share a few words of reflection\, integrating the experience both internally and within community. The walk concludes with tea and light snacks.  \nReservations required – register with Dodge Nature Center.
URL:https://silvaespiritus.com/event/spring-evening-forest-bathing-at-dodge-nature-center-2/
LOCATION:Dodge Nature Center – Main Property\, Farm Entrance\, 1701 Charlton Street\, West St. Paul\, Minnesota\, 55118\, United States
CATEGORIES:Community Forest Bathing,Silvae Spiritus in the Wild
ATTACH;FMTTYPE=image/jpeg:https://silvaespiritus.com/wp-content/uploads/2018/09/IMG_7204.jpg
ORGANIZER;CN="Dodge Nature Center":MAILTO:info@dodgenaturecenter.org
END:VEVENT
BEGIN:VEVENT
DTSTART;TZID=America/Chicago:20260701T183000
DTEND;TZID=America/Chicago:20260701T203000
DTSTAMP:20260419T235406
CREATED:20260407T184752Z
LAST-MODIFIED:20260407T184752Z
UID:5174-1782930600-1782937800@silvaespiritus.com
SUMMARY:Summer Evening Forest Bathing at Dodge Nature Center
DESCRIPTION:Join Silvae Spiritus Nature & Forest Therapy guide Leigha Horton\, certified by the Association of Nature and Forest Therapy Guides and Programs\, for a guided summer evening forest bathing experience!  \nForest bathing is a slow-moving\, deeply sensory\, mindful and “bodyful” walk in nature that has shown to result in measurable physiological\, cognitive\, and emotional benefits. Much like walking meditation or yoga\, these activities can be practiced on one’s own\, almost anywhere\, and yet the benefits greatly increase with regular practice. Forest bathing is significantly more immersive when facilitated by properly trained and certified guides—you’ll be guided by an expert through this program!   \nOver the course of this walk\, you will be given a series of invitations and suggested ways to connect to your natural surroundings. This experience will be mostly silent\, honors each participant’s personal space\, and covers just about 1.5 miles over generally flat surfaces.  \nAt the end of each invitation\, the group will have an opportunity to share a few words of reflection\, integrating the experience both internally and within community. The walk concludes with tea and light snacks.  \nReservations required – register with Dodge Nature Center.
URL:https://silvaespiritus.com/event/summer-evening-forest-bathing-at-dodge-nature-center/
LOCATION:Dodge Nature Center – Main Property\, Farm Entrance\, 1701 Charlton Street\, West St. Paul\, Minnesota\, 55118\, United States
CATEGORIES:Community Forest Bathing,Silvae Spiritus in the Wild
ATTACH;FMTTYPE=image/jpeg:https://silvaespiritus.com/wp-content/uploads/2018/08/IMG_6467.jpg
ORGANIZER;CN="Dodge Nature Center":MAILTO:info@dodgenaturecenter.org
END:VEVENT
BEGIN:VEVENT
DTSTART;TZID=America/Chicago:20260806T183000
DTEND;TZID=America/Chicago:20260806T203000
DTSTAMP:20260419T235406
CREATED:20260407T185109Z
LAST-MODIFIED:20260407T185109Z
UID:5176-1786041000-1786048200@silvaespiritus.com
SUMMARY:Summer Evening Forest Bathing at Dodge Nature Center
DESCRIPTION:Join Silvae Spiritus Nature & Forest Therapy guide Leigha Horton\, certified by the Association of Nature and Forest Therapy Guides and Programs\, for a guided summer evening forest bathing experience!  \nForest bathing is a slow-moving\, deeply sensory\, mindful and “bodyful” walk in nature that has shown to result in measurable physiological\, cognitive\, and emotional benefits. Much like walking meditation or yoga\, these activities can be practiced on one’s own\, almost anywhere\, and yet the benefits greatly increase with regular practice. Forest bathing is significantly more immersive when facilitated by properly trained and certified guides—you’ll be guided by an expert through this program!   \nOver the course of this walk\, you will be given a series of invitations and suggested ways to connect to your natural surroundings. This experience will be mostly silent\, honors each participant’s personal space\, and covers just about 1.5 miles over generally flat surfaces.  \nAt the end of each invitation\, the group will have an opportunity to share a few words of reflection\, integrating the experience both internally and within community. The walk concludes with tea and light snacks.  \nReservations required – register with Dodge Nature Center.
URL:https://silvaespiritus.com/event/summer-evening-forest-bathing-at-dodge-nature-center-2/
LOCATION:Dodge Nature Center – Main Property\, Farm Entrance\, 1701 Charlton Street\, West St. Paul\, Minnesota\, 55118\, United States
CATEGORIES:Community Forest Bathing,Silvae Spiritus in the Wild
ATTACH;FMTTYPE=image/jpeg:https://silvaespiritus.com/wp-content/uploads/2018/08/IMG_6471.jpg
ORGANIZER;CN="Dodge Nature Center":MAILTO:info@dodgenaturecenter.org
END:VEVENT
BEGIN:VEVENT
DTSTART;TZID=America/Chicago:20260918T160000
DTEND;TZID=America/Chicago:20260920T150000
DTSTAMP:20260419T235406
CREATED:20260206T041131Z
LAST-MODIFIED:20260209T195955Z
UID:5056-1789747200-1789916400@silvaespiritus.com
SUMMARY:Interbeing 12: DUSK
DESCRIPTION:Save the date! More info about the year’s second of two celebrated weekend-long camping retreats coming soon! \nIn past years\, Interbeing retreats have typically focused on a single theme or wellness modality; in 2026\, we are delighted to offer retreats that offer a little something for every part of your whole being: from prompted journaling to dance parties\, guided meditation to yoga for all bodies\, sound bathing to nature relation\, ephemeral art to spaciousness\, thermic cycling to naps\, music to story circles. Guests will be invited into a weekend of relaxation\, curiosity\, shared wisdom\, open-heartedness\, and community. \nAct fast – this event is limited to 25 participants.
URL:https://silvaespiritus.com/event/interbeing-12-dusk/
LOCATION:Silvae Spiritus Northwoods Nature Retreat\, 68441 Rhine Lake Road\, Finlayson\, MN\, 55735\, United States
ATTACH;FMTTYPE=image/jpeg:https://silvaespiritus.com/wp-content/uploads/2026/02/Interbeing-12-DUSK.jpg
ORGANIZER;CN="Silvae Spiritus":MAILTO:info@silvaespiritus.com
END:VEVENT
END:VCALENDAR