BEGIN:VCALENDAR
VERSION:2.0
PRODID:-//Silvae Spiritus - ECPv6.13.2.1//NONSGML v1.0//EN
CALSCALE:GREGORIAN
METHOD:PUBLISH
X-WR-CALNAME:Silvae Spiritus
X-ORIGINAL-URL:https://silvaespiritus.com
X-WR-CALDESC:Events for Silvae Spiritus
REFRESH-INTERVAL;VALUE=DURATION:PT1H
X-Robots-Tag:noindex
X-PUBLISHED-TTL:PT1H
BEGIN:VTIMEZONE
TZID:America/Chicago
BEGIN:DAYLIGHT
TZOFFSETFROM:-0600
TZOFFSETTO:-0500
TZNAME:CDT
DTSTART:20240310T080000
END:DAYLIGHT
BEGIN:STANDARD
TZOFFSETFROM:-0500
TZOFFSETTO:-0600
TZNAME:CST
DTSTART:20241103T070000
END:STANDARD
END:VTIMEZONE
BEGIN:VEVENT
DTSTART;TZID=America/Chicago:20241020T113000
DTEND;TZID=America/Chicago:20241020T153000
DTSTAMP:20260420T072300
CREATED:20240405T003348Z
LAST-MODIFIED:20240405T003348Z
UID:4359-1729423800-1729438200@silvaespiritus.com
SUMMARY:Community Forest Bathing + Community Sauna
DESCRIPTION:Forest Bathing is a slow-moving\, deeply sensory\, mindful and “bodyful” walk in nature that has shown to result in measurable physiological\, cognitive\, and emotional benefits. Much like walking meditation or yoga\, these activities can be practiced on one’s own\, almost anywhere\, and yet the benefits greatly increase with regular practice. And much like meditation or yoga\, the experience can be significantly more immersive when facilitated by properly trained and certified guides. \n  \nOver the course of this two-hour Community Forest Bathing walk at Silvae Spiritus Northwoods Nature Retreat\, you will be given a series of invitations—suggested ways to connect to the surrounding 30 acres of woods and meadows. The experience will be mostly silent\, honors each participant’s personal space\, and covers just about a mile and-a-half over generally flat surfaces. At the end of each invitation\, the group will have an opportunity to share a few words of reflection\, integrating the experience both internally and within community. The walk will be led by Leigha Horton or Travis Norman\, Silvae Spiritus Nature & Forest Therapy guides who have been Certified by the Association of Nature and Forest Therapy Guides and Programs. \n  \nThe walk concludes with tea and light snacks\, and allows for a 30 minute break before the start of the 2 pm Community Sauna session. \n  \nCommunity Sauna sessions at Silvae Spiritus are appropriate for all experience levels\, and an opportunity to deepen your nature immersion\, and your sense of deep relaxation and vitality\, while enjoying the company of others.  The 90-minute sessions are guided (information\, science\, and light coaching available) and the fire(s) fully tended\, so that guests can fully luxuriate in the experience.   The wood-fired hot tub will made be available to all guests at no additional charge if the Community Sauna Session reaches full capacity (8 guests)\, so bring your friends! Relax\, connect\, rejuvenate — together. \nCommunity Forest Bathing + Community Sauna Sessions must meet a minimum of three people; cancellation notices and full refunds issued 24 hours prior to event start if minimum attendance is not met. \n  \nPre-registration is required. Program registration must be made 36 hours (11:30 pm on the Friday preceding the event) or more in advance.  Register here.
URL:https://silvaespiritus.com/event/community-forest-bathing-community-sauna-5/
LOCATION:Silvae Spiritus Northwoods Nature Retreat\, 68441 Rhine Lake Road\, Finlayson\, MN\, 55735\, United States
CATEGORIES:Community Forest Bathing,Community Sauna,Forest Bathing
ATTACH;FMTTYPE=image/jpeg:https://silvaespiritus.com/wp-content/uploads/2024/04/IMG_1291.jpg
ORGANIZER;CN="Silvae Spiritus":MAILTO:info@silvaespiritus.com
END:VEVENT
BEGIN:VEVENT
DTSTART;TZID=America/Chicago:20240929T113000
DTEND;TZID=America/Chicago:20240929T153000
DTSTAMP:20260420T072300
CREATED:20240405T003100Z
LAST-MODIFIED:20240405T003100Z
UID:4356-1727609400-1727623800@silvaespiritus.com
SUMMARY:Community Forest Bathing + Community Sauna
DESCRIPTION:Forest Bathing is a slow-moving\, deeply sensory\, mindful and “bodyful” walk in nature that has shown to result in measurable physiological\, cognitive\, and emotional benefits. Much like walking meditation or yoga\, these activities can be practiced on one’s own\, almost anywhere\, and yet the benefits greatly increase with regular practice. And much like meditation or yoga\, the experience can be significantly more immersive when facilitated by properly trained and certified guides. \n  \nOver the course of this two-hour Community Forest Bathing walk at Silvae Spiritus Northwoods Nature Retreat\, you will be given a series of invitations—suggested ways to connect to the surrounding 30 acres of woods and meadows. The experience will be mostly silent\, honors each participant’s personal space\, and covers just about a mile and-a-half over generally flat surfaces. At the end of each invitation\, the group will have an opportunity to share a few words of reflection\, integrating the experience both internally and within community. The walk will be led by Leigha Horton or Travis Norman\, Silvae Spiritus Nature & Forest Therapy guides who have been Certified by the Association of Nature and Forest Therapy Guides and Programs. \n  \nThe walk concludes with tea and light snacks\, and allows for a 30 minute break before the start of the 2 pm Community Sauna session. \n  \nCommunity Sauna sessions at Silvae Spiritus are appropriate for all experience levels\, and an opportunity to deepen your nature immersion\, and your sense of deep relaxation and vitality\, while enjoying the company of others.  The 90-minute sessions are guided (information\, science\, and light coaching available) and the fire(s) fully tended\, so that guests can fully luxuriate in the experience.   The wood-fired hot tub will made be available to all guests at no additional charge if the Community Sauna Session reaches full capacity (8 guests)\, so bring your friends! Relax\, connect\, rejuvenate — together. \nCommunity Forest Bathing + Community Sauna Sessions must meet a minimum of three people; cancellation notices and full refunds issued 24 hours prior to event start if minimum attendance is not met. \n  \nPre-registration is required. Program registration must be made 36 hours (11:30 pm on the Friday preceding the event) or more in advance.  Register here.
URL:https://silvaespiritus.com/event/community-forest-bathing-community-sauna-4/
LOCATION:Silvae Spiritus Northwoods Nature Retreat\, 68441 Rhine Lake Road\, Finlayson\, MN\, 55735\, United States
CATEGORIES:Community Forest Bathing,Community Sauna,Forest Bathing
ATTACH;FMTTYPE=image/jpeg:https://silvaespiritus.com/wp-content/uploads/2024/04/IMG_1291.jpg
ORGANIZER;CN="Silvae Spiritus":MAILTO:info@silvaespiritus.com
END:VEVENT
BEGIN:VEVENT
DTSTART;TZID=America/Chicago:20240825T113000
DTEND;TZID=America/Chicago:20240825T153000
DTSTAMP:20260420T072300
CREATED:20240405T002845Z
LAST-MODIFIED:20240405T002845Z
UID:4354-1724585400-1724599800@silvaespiritus.com
SUMMARY:Community Forest Bathing + Community Sauna
DESCRIPTION:Forest Bathing is a slow-moving\, deeply sensory\, mindful and “bodyful” walk in nature that has shown to result in measurable physiological\, cognitive\, and emotional benefits. Much like walking meditation or yoga\, these activities can be practiced on one’s own\, almost anywhere\, and yet the benefits greatly increase with regular practice. And much like meditation or yoga\, the experience can be significantly more immersive when facilitated by properly trained and certified guides. \n  \nOver the course of this two-hour Community Forest Bathing walk at Silvae Spiritus Northwoods Nature Retreat\, you will be given a series of invitations—suggested ways to connect to the surrounding 30 acres of woods and meadows. The experience will be mostly silent\, honors each participant’s personal space\, and covers just about a mile and-a-half over generally flat surfaces. At the end of each invitation\, the group will have an opportunity to share a few words of reflection\, integrating the experience both internally and within community. The walk will be led by Leigha Horton or Travis Norman\, Silvae Spiritus Nature & Forest Therapy guides who have been Certified by the Association of Nature and Forest Therapy Guides and Programs. \n  \nThe walk concludes with tea and light snacks\, and allows for a 30 minute break before the start of the 2 pm Community Sauna session. \n  \nCommunity Sauna sessions at Silvae Spiritus are appropriate for all experience levels\, and an opportunity to deepen your nature immersion\, and your sense of deep relaxation and vitality\, while enjoying the company of others.  The 90-minute sessions are guided (information\, science\, and light coaching available) and the fire(s) fully tended\, so that guests can fully luxuriate in the experience.   The wood-fired hot tub will made be available to all guests at no additional charge if the Community Sauna Session reaches full capacity (8 guests)\, so bring your friends! Relax\, connect\, rejuvenate — together. \nCommunity Forest Bathing + Community Sauna Sessions must meet a minimum of three people; cancellation notices and full refunds issued 24 hours prior to event start if minimum attendance is not met. \n  \nPre-registration is required. Program registration must be made 36 hours (11:30 pm on the Friday preceding the event) or more in advance.  Register here.
URL:https://silvaespiritus.com/event/community-forest-bathing-community-sauna-3/
LOCATION:Silvae Spiritus Northwoods Nature Retreat\, 68441 Rhine Lake Road\, Finlayson\, MN\, 55735\, United States
CATEGORIES:Community Forest Bathing,Community Sauna,Forest Bathing
ATTACH;FMTTYPE=image/jpeg:https://silvaespiritus.com/wp-content/uploads/2024/04/IMG_1291.jpg
ORGANIZER;CN="Silvae Spiritus":MAILTO:info@silvaespiritus.com
END:VEVENT
BEGIN:VEVENT
DTSTART;TZID=America/Chicago:20240721T113000
DTEND;TZID=America/Chicago:20240721T153000
DTSTAMP:20260420T072300
CREATED:20240405T002607Z
LAST-MODIFIED:20240405T002607Z
UID:4352-1721561400-1721575800@silvaespiritus.com
SUMMARY:Community Forest Bathing + Community Sauna
DESCRIPTION:Forest Bathing is a slow-moving\, deeply sensory\, mindful and “bodyful” walk in nature that has shown to result in measurable physiological\, cognitive\, and emotional benefits. Much like walking meditation or yoga\, these activities can be practiced on one’s own\, almost anywhere\, and yet the benefits greatly increase with regular practice. And much like meditation or yoga\, the experience can be significantly more immersive when facilitated by properly trained and certified guides. \n  \nOver the course of this two-hour Community Forest Bathing walk at Silvae Spiritus Northwoods Nature Retreat\, you will be given a series of invitations—suggested ways to connect to the surrounding 30 acres of woods and meadows. The experience will be mostly silent\, honors each participant’s personal space\, and covers just about a mile and-a-half over generally flat surfaces. At the end of each invitation\, the group will have an opportunity to share a few words of reflection\, integrating the experience both internally and within community. The walk will be led by Leigha Horton or Travis Norman\, Silvae Spiritus Nature & Forest Therapy guides who have been Certified by the Association of Nature and Forest Therapy Guides and Programs. \n  \nThe walk concludes with tea and light snacks\, and allows for a 30 minute break before the start of the 2 pm Community Sauna session. \n  \nCommunity Sauna sessions at Silvae Spiritus are appropriate for all experience levels\, and an opportunity to deepen your nature immersion\, and your sense of deep relaxation and vitality\, while enjoying the company of others.  The 90-minute sessions are guided (information\, science\, and light coaching available) and the fire(s) fully tended\, so that guests can fully luxuriate in the experience.   The wood-fired hot tub will made be available to all guests at no additional charge if the Community Sauna Session reaches full capacity (8 guests)\, so bring your friends! Relax\, connect\, rejuvenate — together. \nCommunity Forest Bathing + Community Sauna Sessions must meet a minimum of three people; cancellation notices and full refunds issued 24 hours prior to event start if minimum attendance is not met. \n  \nPre-registration is required. Program registration must be made 36 hours (11:30 pm on the Friday preceding the event) or more in advance.  Register here.
URL:https://silvaespiritus.com/event/community-forest-bathing-community-sauna-2/
LOCATION:Silvae Spiritus Northwoods Nature Retreat\, 68441 Rhine Lake Road\, Finlayson\, MN\, 55735\, United States
CATEGORIES:Community Forest Bathing,Community Sauna,Forest Bathing
ATTACH;FMTTYPE=image/jpeg:https://silvaespiritus.com/wp-content/uploads/2024/04/IMG_1291.jpg
ORGANIZER;CN="Silvae Spiritus":MAILTO:info@silvaespiritus.com
END:VEVENT
BEGIN:VEVENT
DTSTART;TZID=America/Chicago:20240623T113000
DTEND;TZID=America/Chicago:20240623T153000
DTSTAMP:20260420T072300
CREATED:20240405T000426Z
LAST-MODIFIED:20240405T000522Z
UID:4348-1719142200-1719156600@silvaespiritus.com
SUMMARY:Community Forest Bathing + Community Sauna
DESCRIPTION:Forest Bathing is a slow-moving\, deeply sensory\, mindful and “bodyful” walk in nature that has shown to result in measurable physiological\, cognitive\, and emotional benefits. Much like walking meditation or yoga\, these activities can be practiced on one’s own\, almost anywhere\, and yet the benefits greatly increase with regular practice. And much like meditation or yoga\, the experience can be significantly more immersive when facilitated by properly trained and certified guides. \n  \nOver the course of this two-hour Community Forest Bathing walk at Silvae Spiritus Northwoods Nature Retreat\, you will be given a series of invitations—suggested ways to connect to the surrounding 30 acres of woods and meadows. The experience will be mostly silent\, honors each participant’s personal space\, and covers just about a mile and-a-half over generally flat surfaces. At the end of each invitation\, the group will have an opportunity to share a few words of reflection\, integrating the experience both internally and within community. The walk will be led by Leigha Horton or Travis Norman\, Silvae Spiritus Nature & Forest Therapy guides who have been Certified by the Association of Nature and Forest Therapy Guides and Programs. \n  \nThe walk concludes with tea and light snacks\, and allows for a 30 minute break before the start of the 2 pm Community Sauna session. \n  \nCommunity Sauna sessions at Silvae Spiritus are appropriate for all experience levels\, and an opportunity to deepen your nature immersion\, and your sense of deep relaxation and vitality\, while enjoying the company of others.  The 90-minute sessions are guided (information\, science\, and light coaching available) and the fire(s) fully tended\, so that guests can fully luxuriate in the experience.   The wood-fired hot tub will made be available to all guests at no additional charge if the Community Sauna Session reaches full capacity (8 guests)\, so bring your friends! Relax\, connect\, rejuvenate — together. \nCommunity Forest Bathing + Community Sauna Sessions must meet a minimum of three people; cancellation notices and full refunds issued 24 hours prior to event start if minimum attendance is not met. \n  \nPre-registration is required. Program registration must be made 36 hours (11:30 pm on the Friday preceding the event) or more in advance.  Register here.
URL:https://silvaespiritus.com/event/community-forest-bathing-community-sauna/
LOCATION:Silvae Spiritus Northwoods Nature Retreat\, 68441 Rhine Lake Road\, Finlayson\, MN\, 55735\, United States
CATEGORIES:Community Forest Bathing,Community Sauna,Forest Bathing
ATTACH;FMTTYPE=image/jpeg:https://silvaespiritus.com/wp-content/uploads/2024/04/IMG_1291.jpg
ORGANIZER;CN="Silvae Spiritus":MAILTO:info@silvaespiritus.com
END:VEVENT
END:VCALENDAR